BEGIN:VCALENDAR
PRODID:-//github.com/rianjs/ical.net//NONSGML ical.net 4.0//EN
VERSION:2.0
BEGIN:VTIMEZONE
TZID:Pacific Standard Time
X-LIC-LOCATION:America/Los_Angeles
BEGIN:STANDARD
DTSTART:20241103T020000
RRULE:FREQ=YEARLY;BYDAY=1SU;BYMONTH=11
TZNAME:PST
TZOFFSETFROM:-0700
TZOFFSETTO:-0800
END:STANDARD
BEGIN:DAYLIGHT
DTSTART:20250309T020000
RRULE:FREQ=YEARLY;BYDAY=2SU;BYMONTH=3
TZNAME:PDT
TZOFFSETFROM:-0800
TZOFFSETTO:-0700
END:DAYLIGHT
END:VTIMEZONE
BEGIN:VEVENT
DESCRIPTION:2025 Annual Meeting by the American Academy of Neurology\n\nTi
 tle: AAN Section Showcase: Addressing Barriers to Increase Accessibility 
 to Neurology Care for Adults with Intellectual and Developmental Disabili
 ties\n\nAccess URL: https://www.aan.com/MSA/Public/Events/GetEventURL/188
 24\n\nLearn More About This Event: https://www.aan.com/MSA/Public/Events/
 Details/18824
DTEND;TZID=Pacific Standard Time:20250408T160000
DTSTAMP:20260421T082805Z
DTSTART;TZID=Pacific Standard Time:20250408T150000
LOCATION:https://www.aan.com/MSA/Public/Events/GetEventURL/18824
SEQUENCE:0
SUMMARY:AAN: AAN Section Showcase: Addressing Barriers to Increase Accessi
 bility to Neurology Care for Adults with Intellectual and Developmental D
 isabilities
UID:25729253-a665-4ad9-a740-b3f052774c23
END:VEVENT
END:VCALENDAR
