BEGIN:VCALENDAR
PRODID:-//github.com/rianjs/ical.net//NONSGML ical.net 4.0//EN
VERSION:2.0
BEGIN:VTIMEZONE
TZID:Pacific Standard Time
X-LIC-LOCATION:America/Los_Angeles
BEGIN:STANDARD
DTSTART:20241103T020000
RRULE:FREQ=YEARLY;BYDAY=1SU;BYMONTH=11
TZNAME:PST
TZOFFSETFROM:-0700
TZOFFSETTO:-0800
END:STANDARD
BEGIN:DAYLIGHT
DTSTART:20250309T020000
RRULE:FREQ=YEARLY;BYDAY=2SU;BYMONTH=3
TZNAME:PDT
TZOFFSETFROM:-0800
TZOFFSETTO:-0700
END:DAYLIGHT
END:VTIMEZONE
BEGIN:VEVENT
DESCRIPTION:2025 Annual Meeting by the American Academy of Neurology\n\nTi
 tle: Frontiers in Neuroscience Plenary Popcorn Talk: Research Implication
 s (Research Hub)\n\nAccess URL: https://www.aan.com/MSA/Public/Events/Get
 EventURL/18829\n\nLearn More About This Event: https://www.aan.com/MSA/Pu
 blic/Events/Details/18829
DTEND;TZID=Pacific Standard Time:20250409T133000
DTSTAMP:20260421T081251Z
DTSTART;TZID=Pacific Standard Time:20250409T130000
LOCATION:https://www.aan.com/MSA/Public/Events/GetEventURL/18829
SEQUENCE:0
SUMMARY:AAN: Frontiers in Neuroscience Plenary Popcorn Talk: Research Impl
 ications (Research Hub)
UID:eacf2efa-4d1d-46f9-b23c-2c91dc028083
END:VEVENT
END:VCALENDAR
