BEGIN:VCALENDAR
PRODID:-//github.com/rianjs/ical.net//NONSGML ical.net 4.0//EN
VERSION:2.0
BEGIN:VTIMEZONE
TZID:Pacific Standard Time
X-LIC-LOCATION:America/Los_Angeles
BEGIN:STANDARD
DTSTART:20241103T020000
RRULE:FREQ=YEARLY;BYDAY=1SU;BYMONTH=11
TZNAME:PST
TZOFFSETFROM:-0700
TZOFFSETTO:-0800
END:STANDARD
BEGIN:DAYLIGHT
DTSTART:20250309T020000
RRULE:FREQ=YEARLY;BYDAY=2SU;BYMONTH=3
TZNAME:PDT
TZOFFSETFROM:-0800
TZOFFSETTO:-0700
END:DAYLIGHT
END:VTIMEZONE
BEGIN:VEVENT
DESCRIPTION:2025 Annual Meeting by the American Academy of Neurology\n\nTi
 tle: CANCELED: How to Juggle a Career in Clinical Research (Research Hub)
 \n\nAccess URL: https://www.aan.com/MSA/Public/Events/GetEventURL/18833\n
 \nLearn More About This Event: https://www.aan.com/MSA/Public/Events/Deta
 ils/18833
DTEND;TZID=Pacific Standard Time:20250407T150000
DTSTAMP:20260421T081319Z
DTSTART;TZID=Pacific Standard Time:20250407T143000
LOCATION:https://www.aan.com/MSA/Public/Events/GetEventURL/18833
SEQUENCE:0
SUMMARY:AAN: CANCELED: How to Juggle a Career in Clinical Research (Resear
 ch Hub)
UID:d4609a10-d3b7-4842-a042-af71bf4fc858
END:VEVENT
END:VCALENDAR
