BEGIN:VCALENDAR
PRODID:-//github.com/rianjs/ical.net//NONSGML ical.net 4.0//EN
VERSION:2.0
BEGIN:VTIMEZONE
TZID:Pacific Standard Time
X-LIC-LOCATION:America/Los_Angeles
BEGIN:STANDARD
DTSTART:20241103T020000
RRULE:FREQ=YEARLY;BYDAY=1SU;BYMONTH=11
TZNAME:PST
TZOFFSETFROM:-0700
TZOFFSETTO:-0800
END:STANDARD
BEGIN:DAYLIGHT
DTSTART:20250309T020000
RRULE:FREQ=YEARLY;BYDAY=2SU;BYMONTH=3
TZNAME:PDT
TZOFFSETFROM:-0800
TZOFFSETTO:-0700
END:DAYLIGHT
END:VTIMEZONE
BEGIN:VEVENT
DESCRIPTION:2025 Annual Meeting by the American Academy of Neurology\n\nTi
 tle: Researchers Supporting Researchers in Challenging Times (Research Hu
 b) \n\nAccess URL: https://www.aan.com/MSA/Public/Events/GetEventURL/1883
 6\n\nLearn More About This Event: https://www.aan.com/MSA/Public/Events/D
 etails/18836
DTEND;TZID=Pacific Standard Time:20250407T160000
DTSTAMP:20260421T082730Z
DTSTART;TZID=Pacific Standard Time:20250407T153000
LOCATION:https://www.aan.com/MSA/Public/Events/GetEventURL/18836
SEQUENCE:0
SUMMARY:AAN: Researchers Supporting Researchers in Challenging Times (Rese
 arch Hub)
UID:fd6a9d59-aef5-4315-a16f-f61687565c60
END:VEVENT
END:VCALENDAR
