BEGIN:VCALENDAR
PRODID:-//github.com/rianjs/ical.net//NONSGML ical.net 4.0//EN
VERSION:2.0
BEGIN:VTIMEZONE
TZID:Pacific Standard Time
X-LIC-LOCATION:America/Los_Angeles
BEGIN:STANDARD
DTSTART:20241103T020000
RRULE:FREQ=YEARLY;BYDAY=1SU;BYMONTH=11
TZNAME:PST
TZOFFSETFROM:-0700
TZOFFSETTO:-0800
END:STANDARD
BEGIN:DAYLIGHT
DTSTART:20250309T020000
RRULE:FREQ=YEARLY;BYDAY=2SU;BYMONTH=3
TZNAME:PDT
TZOFFSETFROM:-0800
TZOFFSETTO:-0700
END:DAYLIGHT
END:VTIMEZONE
BEGIN:VEVENT
DESCRIPTION:2025 Annual Meeting by the American Academy of Neurology\n\nTi
 tle: Washington State Neurology Society Reception\n\nDescription: A profe
 ssional social reception for Washington State neurologists\, including bo
 th general practitioners and specialists.  Providing an opportunity to re
 connect with former colleagues and network with new peers in the field.\n
 \nLearn More About This Event: https://www.aan.com/MSA/Public/Events/Deta
 ils/18858
DTEND;TZID=Pacific Standard Time:20250407T180000
DTSTAMP:20260421T121831Z
DTSTART;TZID=Pacific Standard Time:20250407T160000
LOCATION:https://www.aan.com/MSA/Public/Events/GetEventURL/18858
SEQUENCE:0
SUMMARY:AAN: Washington State Neurology Society Reception
UID:e6b025da-0fd0-48ad-b7a6-82343013f41d
END:VEVENT
END:VCALENDAR
