BEGIN:VCALENDAR
PRODID:-//github.com/rianjs/ical.net//NONSGML ical.net 4.0//EN
VERSION:2.0
BEGIN:VTIMEZONE
TZID:Pacific Standard Time
X-LIC-LOCATION:America/Los_Angeles
BEGIN:STANDARD
DTSTART:20241103T020000
RRULE:FREQ=YEARLY;BYDAY=1SU;BYMONTH=11
TZNAME:PST
TZOFFSETFROM:-0700
TZOFFSETTO:-0800
END:STANDARD
BEGIN:DAYLIGHT
DTSTART:20250309T020000
RRULE:FREQ=YEARLY;BYDAY=2SU;BYMONTH=3
TZNAME:PDT
TZOFFSETFROM:-0800
TZOFFSETTO:-0700
END:DAYLIGHT
END:VTIMEZONE
BEGIN:VEVENT
DESCRIPTION:2025 Annual Meeting by the American Academy of Neurology\n\nTi
 tle: Preparing Research Manuscripts for Publication in Neurologic Journal
 s\n\nAccess URL: https://www.aan.com/MSA/Public/Events/GetEventURL/18873\
 n\nLearn More About This Event: https://www.aan.com/MSA/Public/Events/Det
 ails/18873
DTEND;TZID=Pacific Standard Time:20250405T153000
DTSTAMP:20260421T081154Z
DTSTART;TZID=Pacific Standard Time:20250405T150000
LOCATION:https://www.aan.com/MSA/Public/Events/GetEventURL/18873
SEQUENCE:0
SUMMARY:AAN: Preparing Research Manuscripts for Publication in Neurologic 
 Journals
UID:2f6e44ec-a44d-4f43-b78b-0a7914b70f42
END:VEVENT
END:VCALENDAR
