BEGIN:VCALENDAR
PRODID:-//github.com/rianjs/ical.net//NONSGML ical.net 4.0//EN
VERSION:2.0
BEGIN:VTIMEZONE
TZID:Pacific Standard Time
X-LIC-LOCATION:America/Los_Angeles
BEGIN:STANDARD
DTSTART:20241103T020000
RRULE:FREQ=YEARLY;BYDAY=1SU;BYMONTH=11
TZNAME:PST
TZOFFSETFROM:-0700
TZOFFSETTO:-0800
END:STANDARD
BEGIN:DAYLIGHT
DTSTART:20250309T020000
RRULE:FREQ=YEARLY;BYDAY=2SU;BYMONTH=3
TZNAME:PDT
TZOFFSETFROM:-0800
TZOFFSETTO:-0700
END:DAYLIGHT
END:VTIMEZONE
BEGIN:VEVENT
DESCRIPTION:2025 Annual Meeting by the American Academy of Neurology\n\nTi
 tle: Neurology Today® Panel Discussion: Best Advances in Neurology Resear
 ch\n\nAccess URL: https://www.aan.com/MSA/Public/Events/GetEventURL/18876
 \n\nLearn More About This Event: https://www.aan.com/MSA/Public/Events/De
 tails/18876
DTEND;TZID=Pacific Standard Time:20250405T170000
DTSTAMP:20260421T081320Z
DTSTART;TZID=Pacific Standard Time:20250405T163000
LOCATION:https://www.aan.com/MSA/Public/Events/GetEventURL/18876
SEQUENCE:0
SUMMARY:AAN: Neurology Today® Panel Discussion: Best Advances in Neurology
  Research
UID:22dddd8f-0796-4965-8703-dd848d6724d2
END:VEVENT
END:VCALENDAR
