BEGIN:VCALENDAR
PRODID:-//github.com/rianjs/ical.net//NONSGML ical.net 4.0//EN
VERSION:2.0
BEGIN:VTIMEZONE
TZID:Pacific Standard Time
X-LIC-LOCATION:America/Los_Angeles
BEGIN:STANDARD
DTSTART:20241103T020000
RRULE:FREQ=YEARLY;BYDAY=1SU;BYMONTH=11
TZNAME:PST
TZOFFSETFROM:-0700
TZOFFSETTO:-0800
END:STANDARD
BEGIN:DAYLIGHT
DTSTART:20250309T020000
RRULE:FREQ=YEARLY;BYDAY=2SU;BYMONTH=3
TZNAME:PDT
TZOFFSETFROM:-0800
TZOFFSETTO:-0700
END:DAYLIGHT
END:VTIMEZONE
BEGIN:VEVENT
DESCRIPTION:2025 Annual Meeting by the American Academy of Neurology\n\nTi
 tle: Society and Brain: Highlighting Social Determinants of Brain Health 
 Using Neurology Today®\n\nAccess URL: https://www.aan.com/MSA/Public/Even
 ts/GetEventURL/18877\n\nLearn More About This Event: https://www.aan.com/
 MSA/Public/Events/Details/18877
DTEND;TZID=Pacific Standard Time:20250406T130000
DTSTAMP:20260421T081110Z
DTSTART;TZID=Pacific Standard Time:20250406T123000
LOCATION:https://www.aan.com/MSA/Public/Events/GetEventURL/18877
SEQUENCE:0
SUMMARY:AAN: Society and Brain: Highlighting Social Determinants of Brain 
 Health Using Neurology Today®
UID:3fad8b07-fa78-4a15-b041-cf29d39c6c54
END:VEVENT
END:VCALENDAR
