BEGIN:VCALENDAR
PRODID:-//github.com/rianjs/ical.net//NONSGML ical.net 4.0//EN
VERSION:2.0
BEGIN:VTIMEZONE
TZID:Pacific Standard Time
X-LIC-LOCATION:America/Los_Angeles
BEGIN:STANDARD
DTSTART:20241103T020000
RRULE:FREQ=YEARLY;BYDAY=1SU;BYMONTH=11
TZNAME:PST
TZOFFSETFROM:-0700
TZOFFSETTO:-0800
END:STANDARD
BEGIN:DAYLIGHT
DTSTART:20250309T020000
RRULE:FREQ=YEARLY;BYDAY=2SU;BYMONTH=3
TZNAME:PDT
TZOFFSETFROM:-0800
TZOFFSETTO:-0700
END:DAYLIGHT
END:VTIMEZONE
BEGIN:VEVENT
DESCRIPTION:2025 Annual Meeting by the American Academy of Neurology\n\nTi
 tle: Remodeling Patient Advocacy Through Radical Inclusion (Innovation Hu
 b)\n\nAccess URL: https://www.aan.com/MSA/Public/Events/GetEventURL/18881
 \n\nLearn More About This Event: https://www.aan.com/MSA/Public/Events/De
 tails/18881
DTEND;TZID=Pacific Standard Time:20250408T122000
DTSTAMP:20260421T121944Z
DTSTART;TZID=Pacific Standard Time:20250408T115000
LOCATION:https://www.aan.com/MSA/Public/Events/GetEventURL/18881
SEQUENCE:0
SUMMARY:AAN: Remodeling Patient Advocacy Through Radical Inclusion (Innova
 tion Hub)
UID:c86e6608-bb7a-42fa-9ad3-4a78771d31f7
END:VEVENT
END:VCALENDAR
