BEGIN:VCALENDAR
PRODID:-//github.com/rianjs/ical.net//NONSGML ical.net 4.0//EN
VERSION:2.0
BEGIN:VTIMEZONE
TZID:Pacific Standard Time
X-LIC-LOCATION:America/Los_Angeles
BEGIN:STANDARD
DTSTART:20241103T020000
RRULE:FREQ=YEARLY;BYDAY=1SU;BYMONTH=11
TZNAME:PST
TZOFFSETFROM:-0700
TZOFFSETTO:-0800
END:STANDARD
BEGIN:DAYLIGHT
DTSTART:20250309T020000
RRULE:FREQ=YEARLY;BYDAY=2SU;BYMONTH=3
TZNAME:PDT
TZOFFSETFROM:-0800
TZOFFSETTO:-0700
END:DAYLIGHT
END:VTIMEZONE
BEGIN:VEVENT
DESCRIPTION:2025 Annual Meeting by the American Academy of Neurology\n\nTi
 tle: Neurology® Podcast and Neurology Minute®: 18 Years of Audio Excellen
 ce and Innovation \n\nAccess URL: https://www.aan.com/MSA/Public/Events/G
 etEventURL/18884\n\nLearn More About This Event: https://www.aan.com/MSA/
 Public/Events/Details/18884
DTEND;TZID=Pacific Standard Time:20250407T143000
DTSTAMP:20260421T081329Z
DTSTART;TZID=Pacific Standard Time:20250407T133000
LOCATION:https://www.aan.com/MSA/Public/Events/GetEventURL/18884
SEQUENCE:0
SUMMARY:AAN: Neurology® Podcast and Neurology Minute®: 18 Years of Audio E
 xcellence and Innovation
UID:dbcb3722-19b0-4d1c-bdcf-ca4a1d3fe23b
END:VEVENT
END:VCALENDAR
