BEGIN:VCALENDAR
PRODID:-//github.com/rianjs/ical.net//NONSGML ical.net 4.0//EN
VERSION:2.0
BEGIN:VTIMEZONE
TZID:Pacific Standard Time
X-LIC-LOCATION:America/Los_Angeles
BEGIN:STANDARD
DTSTART:20241103T020000
RRULE:FREQ=YEARLY;BYDAY=1SU;BYMONTH=11
TZNAME:PST
TZOFFSETFROM:-0700
TZOFFSETTO:-0800
END:STANDARD
BEGIN:DAYLIGHT
DTSTART:20250309T020000
RRULE:FREQ=YEARLY;BYDAY=2SU;BYMONTH=3
TZNAME:PDT
TZOFFSETFROM:-0800
TZOFFSETTO:-0700
END:DAYLIGHT
END:VTIMEZONE
BEGIN:VEVENT
DESCRIPTION:2025 Annual Meeting by the American Academy of Neurology\n\nTi
 tle: How to Contribute to the Neurology® Resident & Fellow Section\n\nAcc
 ess URL: https://www.aan.com/MSA/Public/Events/GetEventURL/18887\n\nLearn
  More About This Event: https://www.aan.com/MSA/Public/Events/Details/188
 87
DTEND;TZID=Pacific Standard Time:20250409T120000
DTSTAMP:20260421T081153Z
DTSTART;TZID=Pacific Standard Time:20250409T113000
LOCATION:https://www.aan.com/MSA/Public/Events/GetEventURL/18887
SEQUENCE:0
SUMMARY:AAN: How to Contribute to the Neurology® Resident & Fellow Section
UID:a8c31851-17f9-4232-87ed-b4854772e83c
END:VEVENT
END:VCALENDAR
