BEGIN:VCALENDAR
PRODID:-//github.com/rianjs/ical.net//NONSGML ical.net 4.0//EN
VERSION:2.0
BEGIN:VTIMEZONE
TZID:Pacific Standard Time
X-LIC-LOCATION:America/Los_Angeles
BEGIN:STANDARD
DTSTART:20241103T020000
RRULE:FREQ=YEARLY;BYDAY=1SU;BYMONTH=11
TZNAME:PST
TZOFFSETFROM:-0700
TZOFFSETTO:-0800
END:STANDARD
BEGIN:DAYLIGHT
DTSTART:20250309T020000
RRULE:FREQ=YEARLY;BYDAY=2SU;BYMONTH=3
TZNAME:PDT
TZOFFSETFROM:-0800
TZOFFSETTO:-0700
END:DAYLIGHT
END:VTIMEZONE
BEGIN:VEVENT
DESCRIPTION:2025 Annual Meeting by the American Academy of Neurology\n\nTi
 tle: From SWOT to SOAR: Flipping the Script to Spark Positive Change in Y
 our Practice Environment (Leadership University)\n\nAccess URL: https://w
 ww.aan.com/MSA/Public/Events/GetEventURL/18891\n\nLearn More About This E
 vent: https://www.aan.com/MSA/Public/Events/Details/18891
DTEND;TZID=Pacific Standard Time:20250408T090000
DTSTAMP:20260421T082907Z
DTSTART;TZID=Pacific Standard Time:20250408T080000
LOCATION:https://www.aan.com/MSA/Public/Events/GetEventURL/18891
SEQUENCE:0
SUMMARY:AAN: From SWOT to SOAR: Flipping the Script to Spark Positive Chan
 ge in Your Practice Environment (Leadership University)
UID:939def77-465b-415a-a0f4-e6f014d20a4f
END:VEVENT
END:VCALENDAR
