BEGIN:VCALENDAR
PRODID:-//github.com/rianjs/ical.net//NONSGML ical.net 4.0//EN
VERSION:2.0
BEGIN:VTIMEZONE
TZID:Pacific Standard Time
X-LIC-LOCATION:America/Los_Angeles
BEGIN:STANDARD
DTSTART:20241103T020000
RRULE:FREQ=YEARLY;BYDAY=1SU;BYMONTH=11
TZNAME:PST
TZOFFSETFROM:-0700
TZOFFSETTO:-0800
END:STANDARD
BEGIN:DAYLIGHT
DTSTART:20250309T020000
RRULE:FREQ=YEARLY;BYDAY=2SU;BYMONTH=3
TZNAME:PDT
TZOFFSETFROM:-0800
TZOFFSETTO:-0700
END:DAYLIGHT
END:VTIMEZONE
BEGIN:VEVENT
DESCRIPTION:2025 Annual Meeting by the American Academy of Neurology\n\nTi
 tle: 	Neuro-ophthalmology/Neuro-otology Section Poster Tour 1\n\nAccess U
 RL: https://www.aan.com/MSA/Public/Events/GetEventURL/18905\n\nLearn More
  About This Event: https://www.aan.com/MSA/Public/Events/Details/18905
DTEND;TZID=Pacific Standard Time:20250406T090000
DTSTAMP:20260421T080943Z
DTSTART;TZID=Pacific Standard Time:20250406T080000
LOCATION:https://www.aan.com/MSA/Public/Events/GetEventURL/18905
SEQUENCE:0
SUMMARY:AAN: 	Neuro-ophthalmology/Neuro-otology Section Poster Tour 1
UID:b4e767d6-a5f6-4547-8145-9887908d1e8f
END:VEVENT
END:VCALENDAR
