BEGIN:VCALENDAR
PRODID:-//github.com/rianjs/ical.net//NONSGML ical.net 4.0//EN
VERSION:2.0
BEGIN:VTIMEZONE
TZID:Pacific Standard Time
X-LIC-LOCATION:America/Los_Angeles
BEGIN:STANDARD
DTSTART:20241103T020000
RRULE:FREQ=YEARLY;BYDAY=1SU;BYMONTH=11
TZNAME:PST
TZOFFSETFROM:-0700
TZOFFSETTO:-0800
END:STANDARD
BEGIN:DAYLIGHT
DTSTART:20250309T020000
RRULE:FREQ=YEARLY;BYDAY=2SU;BYMONTH=3
TZNAME:PDT
TZOFFSETFROM:-0800
TZOFFSETTO:-0700
END:DAYLIGHT
END:VTIMEZONE
BEGIN:VEVENT
DESCRIPTION:2025 Annual Meeting by the American Academy of Neurology\n\nTi
 tle: Headache and Facial Pain Section Poster Tour\n\nAccess URL: https://
 www.aan.com/MSA/Public/Events/GetEventURL/18907\n\nLearn More About This 
 Event: https://www.aan.com/MSA/Public/Events/Details/18907
DTEND;TZID=Pacific Standard Time:20250407T180000
DTSTAMP:20260419T125205Z
DTSTART;TZID=Pacific Standard Time:20250407T170000
LOCATION:https://www.aan.com/MSA/Public/Events/GetEventURL/18907
SEQUENCE:0
SUMMARY:AAN: Headache and Facial Pain Section Poster Tour
UID:cff6ceb3-fff4-400e-bd47-ef44f6add7cc
END:VEVENT
END:VCALENDAR
