BEGIN:VCALENDAR
PRODID:-//github.com/rianjs/ical.net//NONSGML ical.net 4.0//EN
VERSION:2.0
BEGIN:VTIMEZONE
TZID:Pacific Standard Time
X-LIC-LOCATION:America/Los_Angeles
BEGIN:STANDARD
DTSTART:20241103T020000
RRULE:FREQ=YEARLY;BYDAY=1SU;BYMONTH=11
TZNAME:PST
TZOFFSETFROM:-0700
TZOFFSETTO:-0800
END:STANDARD
BEGIN:DAYLIGHT
DTSTART:20250309T020000
RRULE:FREQ=YEARLY;BYDAY=2SU;BYMONTH=3
TZNAME:PDT
TZOFFSETFROM:-0800
TZOFFSETTO:-0700
END:DAYLIGHT
END:VTIMEZONE
BEGIN:VEVENT
DESCRIPTION:2025 Annual Meeting by the American Academy of Neurology\n\nTi
 tle: Listen to Learn: Continuum® Audio and Continuum Aloud Panel\n\nAcces
 s URL: https://www.aan.com/MSA/Public/Events/GetEventURL/20504\n\nLearn M
 ore About This Event: https://www.aan.com/MSA/Public/Events/Details/20504
DTEND;TZID=Pacific Standard Time:20250408T160000
DTSTAMP:20260421T082632Z
DTSTART;TZID=Pacific Standard Time:20250408T153000
LOCATION:https://www.aan.com/MSA/Public/Events/GetEventURL/20504
SEQUENCE:0
SUMMARY:AAN: Listen to Learn: Continuum® Audio and Continuum Aloud Panel
UID:c3d6f375-bbe3-43ab-8ac1-d8eab5c0abce
END:VEVENT
END:VCALENDAR
