BEGIN:VCALENDAR
PRODID:-//github.com/rianjs/ical.net//NONSGML ical.net 4.0//EN
VERSION:2.0
BEGIN:VTIMEZONE
TZID:Pacific Standard Time
X-LIC-LOCATION:America/Los_Angeles
BEGIN:STANDARD
DTSTART:20241103T020000
RRULE:FREQ=YEARLY;BYDAY=1SU;BYMONTH=11
TZNAME:PST
TZOFFSETFROM:-0700
TZOFFSETTO:-0800
END:STANDARD
BEGIN:DAYLIGHT
DTSTART:20250309T020000
RRULE:FREQ=YEARLY;BYDAY=2SU;BYMONTH=3
TZNAME:PDT
TZOFFSETFROM:-0800
TZOFFSETTO:-0700
END:DAYLIGHT
END:VTIMEZONE
BEGIN:VEVENT
DESCRIPTION:2025 Annual Meeting by the American Academy of Neurology\n\nTi
 tle: Section Meeting Room\n\nDescription: section space \n\nLearn More Ab
 out This Event: https://www.aan.com/MSA/Public/Events/Details/20553
DTEND;TZID=Pacific Standard Time:20250406T130000
DTSTAMP:20260421T081250Z
DTSTART;TZID=Pacific Standard Time:20250406T120000
LOCATION:https://www.aan.com/MSA/Public/Events/GetEventURL/20553
SEQUENCE:0
SUMMARY:AAN: Section Meeting Room
UID:3c48837d-3b36-4037-bfb1-2c86b3ac8f05
END:VEVENT
END:VCALENDAR
