BEGIN:VCALENDAR
PRODID:-//github.com/rianjs/ical.net//NONSGML ical.net 4.0//EN
VERSION:2.0
BEGIN:VTIMEZONE
TZID:Pacific Standard Time
X-LIC-LOCATION:America/Los_Angeles
BEGIN:STANDARD
DTSTART:20241103T020000
RRULE:FREQ=YEARLY;BYDAY=1SU;BYMONTH=11
TZNAME:PST
TZOFFSETFROM:-0700
TZOFFSETTO:-0800
END:STANDARD
BEGIN:DAYLIGHT
DTSTART:20250309T020000
RRULE:FREQ=YEARLY;BYDAY=2SU;BYMONTH=3
TZNAME:PDT
TZOFFSETFROM:-0800
TZOFFSETTO:-0700
END:DAYLIGHT
END:VTIMEZONE
BEGIN:VEVENT
DESCRIPTION:2025 Annual Meeting by the American Academy of Neurology\n\nTi
 tle: Association of Indian Neurologists in America\n\nDescription: AINA A
 nnual Meeting and Dinner\n\nLearn More About This Event: https://www.aan.
 com/MSA/Public/Events/Details/20554
DTEND;TZID=Pacific Standard Time:20250407T220000
DTSTAMP:20260421T082553Z
DTSTART;TZID=Pacific Standard Time:20250407T180000
LOCATION:https://www.aan.com/MSA/Public/Events/GetEventURL/20554
SEQUENCE:0
SUMMARY:AAN: Association of Indian Neurologists in America
UID:37d769c5-561d-4a40-a67e-2bc3599df2a2
END:VEVENT
END:VCALENDAR
