BEGIN:VCALENDAR
PRODID:-//github.com/rianjs/ical.net//NONSGML ical.net 4.0//EN
VERSION:2.0
BEGIN:VTIMEZONE
TZID:Pacific Standard Time
X-LIC-LOCATION:America/Los_Angeles
BEGIN:STANDARD
DTSTART:20241103T020000
RRULE:FREQ=YEARLY;BYDAY=1SU;BYMONTH=11
TZNAME:PST
TZOFFSETFROM:-0700
TZOFFSETTO:-0800
END:STANDARD
BEGIN:DAYLIGHT
DTSTART:20250309T020000
RRULE:FREQ=YEARLY;BYDAY=2SU;BYMONTH=3
TZNAME:PDT
TZOFFSETFROM:-0800
TZOFFSETTO:-0700
END:DAYLIGHT
END:VTIMEZONE
BEGIN:VEVENT
DESCRIPTION:2025 Annual Meeting by the American Academy of Neurology\n\nTi
 tle: Informal Gathering for the Neurohealth & Integrative Neurology Secti
 on  \n\nAccess URL: https://www.aan.com/MSA/Public/Events/GetEventURL/205
 61\n\nLearn More About This Event: https://www.aan.com/MSA/Public/Events/
 Details/20561
DTEND;TZID=Pacific Standard Time:20250406T143000
DTSTAMP:20260421T082503Z
DTSTART;TZID=Pacific Standard Time:20250406T133000
LOCATION:https://www.aan.com/MSA/Public/Events/GetEventURL/20561
SEQUENCE:0
SUMMARY:AAN: Informal Gathering for the Neurohealth & Integrative Neurolog
 y Section
UID:24c8f3bc-e61c-441c-9d00-6ed50cbcd15c
END:VEVENT
END:VCALENDAR
