BEGIN:VCALENDAR
PRODID:-//github.com/rianjs/ical.net//NONSGML ical.net 4.0//EN
VERSION:2.0
BEGIN:VTIMEZONE
TZID:Pacific Standard Time
X-LIC-LOCATION:America/Los_Angeles
BEGIN:STANDARD
DTSTART:20241103T020000
RRULE:FREQ=YEARLY;BYDAY=1SU;BYMONTH=11
TZNAME:PST
TZOFFSETFROM:-0700
TZOFFSETTO:-0800
END:STANDARD
BEGIN:DAYLIGHT
DTSTART:20250309T020000
RRULE:FREQ=YEARLY;BYDAY=2SU;BYMONTH=3
TZNAME:PDT
TZOFFSETFROM:-0800
TZOFFSETTO:-0700
END:DAYLIGHT
END:VTIMEZONE
BEGIN:VEVENT
DESCRIPTION:2025 Annual Meeting by the American Academy of Neurology\n\nTi
 tle: Informal Gathering for the Critical Care and Emergency Neurology Sec
 tion\n\nAccess URL: https://www.aan.com/MSA/Public/Events/GetEventURL/205
 69\n\nLearn More About This Event: https://www.aan.com/MSA/Public/Events/
 Details/20569
DTEND;TZID=Pacific Standard Time:20250408T173000
DTSTAMP:20260421T081117Z
DTSTART;TZID=Pacific Standard Time:20250408T163000
LOCATION:https://www.aan.com/MSA/Public/Events/GetEventURL/20569
SEQUENCE:0
SUMMARY:AAN: Informal Gathering for the Critical Care and Emergency Neurol
 ogy Section
UID:d8164c70-04ee-4b47-9cfe-4395d4e499f2
END:VEVENT
END:VCALENDAR
