BEGIN:VCALENDAR
PRODID:-//github.com/rianjs/ical.net//NONSGML ical.net 4.0//EN
VERSION:2.0
BEGIN:VEVENT
DESCRIPTION:2011 Annual Meeting by the American Academy of Neurology\n\nTi
 tle: Advances in the Genetics of Movement Disorders\n\nAccess URL: https:
 //www.aan.com/MSA/Public/Events/GetEventURL/2175\n\nLearn More About This
  Event: https://www.aan.com/MSA/Public/Events/Details/2175
DTEND:20110411T180000
DTSTAMP:20260423T193729Z
DTSTART:20110411T140000
LOCATION:https://www.aan.com/MSA/Public/Events/GetEventURL/2175
SEQUENCE:0
SUMMARY:AAN: Advances in the Genetics of Movement Disorders
UID:0cbabc81-7989-4534-9202-c85177082615
END:VEVENT
END:VCALENDAR
