BEGIN:VCALENDAR
PRODID:-//github.com/rianjs/ical.net//NONSGML ical.net 4.0//EN
VERSION:2.0
BEGIN:VEVENT
DESCRIPTION:2013 Annual Meeting by the American Academy of Neurology\n\nTi
 tle: Poster Session 05\n\nAccess URL: https://www.aan.com/MSA/Public/Even
 ts/GetEventURL/2847\n\nLearn More About This Event: https://www.aan.com/M
 SA/Public/Events/Details/2847
DTEND:20130320T190000
DTSTAMP:20260419T150222Z
DTSTART:20130320T140000
LOCATION:https://www.aan.com/MSA/Public/Events/GetEventURL/2847
SEQUENCE:0
SUMMARY:AAN: Poster Session 05
UID:641b17fb-42d7-4e14-ba00-b6f3d5a244e1
END:VEVENT
END:VCALENDAR
