BEGIN:VCALENDAR
PRODID:-//github.com/rianjs/ical.net//NONSGML ical.net 4.0//EN
VERSION:2.0
BEGIN:VTIMEZONE
TZID:Eastern Standard Time
X-LIC-LOCATION:America/New_York
BEGIN:STANDARD
DTSTART:20241103T020000
RRULE:FREQ=YEARLY;BYDAY=1SU;BYMONTH=11
TZNAME:EST
TZOFFSETFROM:-0400
TZOFFSETTO:-0500
END:STANDARD
BEGIN:DAYLIGHT
DTSTART:20250309T020000
RRULE:FREQ=YEARLY;BYDAY=2SU;BYMONTH=3
TZNAME:EDT
TZOFFSETFROM:-0500
TZOFFSETTO:-0400
END:DAYLIGHT
END:VTIMEZONE
BEGIN:VEVENT
DESCRIPTION:2019 Annual Meeting by the American Academy of Neurology\n\nTi
 tle: Poster Session 5\n\nAccess URL: https://www.aan.com/MSA/Public/Event
 s/GetEventURL/7879\n\nLearn More About This Event: https://www.aan.com/MS
 A/Public/Events/Details/7879
DTEND;TZID=Eastern Standard Time:20190509T183000
DTSTAMP:20260421T164204Z
DTSTART;TZID=Eastern Standard Time:20190509T113000
LOCATION:https://www.aan.com/MSA/Public/Events/GetEventURL/7879
SEQUENCE:0
SUMMARY:AAN: Poster Session 5
UID:569613ce-045a-45d5-b4cb-1b02c457c27e
END:VEVENT
END:VCALENDAR
