BEGIN:VCALENDAR
PRODID:-//github.com/rianjs/ical.net//NONSGML ical.net 4.0//EN
VERSION:2.0
BEGIN:VEVENT
DESCRIPTION:2006 Annual Meeting by the American Academy of Neurology\n\nTi
 tle: Poster Session 04\n\nAccess URL: https://www.aan.com/MSA/Public/Even
 ts/GetEventURL/846\n\nLearn More About This Event: https://www.aan.com/MS
 A/Public/Events/Details/846
DTEND:20060405T190000
DTSTAMP:20260421T170210Z
DTSTART:20060405T150000
LOCATION:https://www.aan.com/MSA/Public/Events/GetEventURL/846
SEQUENCE:0
SUMMARY:AAN: Poster Session 04
UID:82dcbc82-f9b9-407b-b18f-2bfd49a2391b
END:VEVENT
END:VCALENDAR
