BEGIN:VCALENDAR
PRODID:-//github.com/rianjs/ical.net//NONSGML ical.net 4.0//EN
VERSION:2.0
BEGIN:VEVENT
DESCRIPTION:2006 Annual Meeting by the American Academy of Neurology\n\nTi
 tle: Sleep Disorders\n\nAccess URL: https://www.aan.com/MSA/Public/Events
 /GetEventURL/847\n\nLearn More About This Event: https://www.aan.com/MSA/
 Public/Events/Details/847
DTEND:20060402T173000
DTSTAMP:20260421T184809Z
DTSTART:20060402T130000
LOCATION:https://www.aan.com/MSA/Public/Events/GetEventURL/847
SEQUENCE:0
SUMMARY:AAN: Sleep Disorders
UID:fac0d8ed-8089-4b6f-8e9c-8520e3cc454e
END:VEVENT
END:VCALENDAR
