BEGIN:VCALENDAR
PRODID:-//github.com/rianjs/ical.net//NONSGML ical.net 4.0//EN
VERSION:2.0
BEGIN:VEVENT
DESCRIPTION:2008 Annual Meeting by the American Academy of Neurology\n\nTi
 tle: Resident Basic Science I: Anatomy\n\nAccess URL: https://www.aan.com
 /msa/Public/Events/GetEventURL/1138\n\nLearn More About This Event: https
 ://www.aan.com/msa/Public/Events/Details/1138
DTEND:20080412T124500
DTSTAMP:20260424T054004Z
DTSTART:20080412T090000
LOCATION:https://www.aan.com/msa/Public/Events/GetEventURL/1138
SEQUENCE:0
SUMMARY:AAN: Resident Basic Science I: Anatomy
UID:c2d23699-18d0-4836-aff5-5a302bbc1979
END:VEVENT
END:VCALENDAR
