BEGIN:VCALENDAR
PRODID:-//github.com/rianjs/ical.net//NONSGML ical.net 4.0//EN
VERSION:2.0
BEGIN:VEVENT
DESCRIPTION:2008 Annual Meeting by the American Academy of Neurology\n\nTi
 tle: Clerkship and Program Directors Conference: Research and Technology\
 n\nAccess URL: https://www.aan.com/msa/Public/Events/GetEventURL/1139\n\n
 Learn More About This Event: https://www.aan.com/msa/Public/Events/Detail
 s/1139
DTEND:20080412T160000
DTSTAMP:20260424T054033Z
DTSTART:20080412T090000
LOCATION:https://www.aan.com/msa/Public/Events/GetEventURL/1139
SEQUENCE:0
SUMMARY:AAN: Clerkship and Program Directors Conference: Research and Tech
 nology
UID:7f47b669-e783-4efb-906e-2b084fb2af88
END:VEVENT
END:VCALENDAR
