BEGIN:VCALENDAR
PRODID:-//github.com/rianjs/ical.net//NONSGML ical.net 4.0//EN
VERSION:2.0
BEGIN:VEVENT
DESCRIPTION:2008 Annual Meeting by the American Academy of Neurology\n\nTi
 tle: The Practice of Neurology: Issues in Coding and Reimbursement\n\nAcc
 ess URL: https://www.aan.com/msa/Public/Events/GetEventURL/1140\n\nLearn 
 More About This Event: https://www.aan.com/msa/Public/Events/Details/1140
DTEND:20080412T170000
DTSTAMP:20260424T053954Z
DTSTART:20080412T090000
LOCATION:https://www.aan.com/msa/Public/Events/GetEventURL/1140
SEQUENCE:0
SUMMARY:AAN: The Practice of Neurology: Issues in Coding and Reimbursement
UID:ae74d884-8e75-4500-a6f0-df07329528f6
END:VEVENT
END:VCALENDAR
