BEGIN:VCALENDAR
PRODID:-//github.com/rianjs/ical.net//NONSGML ical.net 4.0//EN
VERSION:2.0
BEGIN:VEVENT
DESCRIPTION:2008 Annual Meeting by the American Academy of Neurology\n\nTi
 tle: Using AAN Guidelines and Best Current Evidence in Daily Practice: Ne
 urocritical Care\n\nAccess URL: https://www.aan.com/msa/Public/Events/Get
 EventURL/1142\n\nLearn More About This Event: https://www.aan.com/msa/Pub
 lic/Events/Details/1142
DTEND:20080412T180000
DTSTAMP:20260424T054001Z
DTSTART:20080412T141500
LOCATION:https://www.aan.com/msa/Public/Events/GetEventURL/1142
SEQUENCE:0
SUMMARY:AAN: Using AAN Guidelines and Best Current Evidence in Daily Pract
 ice: Neurocritical Care
UID:52189925-2ec3-4979-b3d7-768b9638813a
END:VEVENT
END:VCALENDAR
