BEGIN:VCALENDAR
PRODID:-//github.com/rianjs/ical.net//NONSGML ical.net 4.0//EN
VERSION:2.0
BEGIN:VEVENT
DESCRIPTION:2008 Annual Meeting by the American Academy of Neurology\n\nTi
 tle: Epilepsy Update\n\nAccess URL: https://www.aan.com/msa/Public/Events
 /GetEventURL/1143\n\nLearn More About This Event: https://www.aan.com/msa
 /Public/Events/Details/1143
DTEND:20080412T200000
DTSTAMP:20260424T053955Z
DTSTART:20080412T180000
LOCATION:https://www.aan.com/msa/Public/Events/GetEventURL/1143
SEQUENCE:0
SUMMARY:AAN: Epilepsy Update
UID:22ad82cf-afbb-486d-ae05-03ec1d1eedb5
END:VEVENT
END:VCALENDAR
