BEGIN:VCALENDAR
PRODID:-//github.com/rianjs/ical.net//NONSGML ical.net 4.0//EN
VERSION:2.0
BEGIN:VEVENT
DESCRIPTION:2008 Annual Meeting by the American Academy of Neurology\n\nTi
 tle: Improving Accuracy of Dementia Diagnosis: Case Studies with Neuropat
 hology\n\nAccess URL: https://www.aan.com/msa/Public/Events/GetEventURL/1
 153\n\nLearn More About This Event: https://www.aan.com/msa/Public/Events
 /Details/1153
DTEND:20080413T083000
DTSTAMP:20260424T054004Z
DTSTART:20080413T064500
LOCATION:https://www.aan.com/msa/Public/Events/GetEventURL/1153
SEQUENCE:0
SUMMARY:AAN: Improving Accuracy of Dementia Diagnosis: Case Studies with N
 europathology
UID:83056aaf-7f77-4355-a759-b2afa232a473
END:VEVENT
END:VCALENDAR
