BEGIN:VCALENDAR
PRODID:-//github.com/rianjs/ical.net//NONSGML ical.net 4.0//EN
VERSION:2.0
BEGIN:VEVENT
DESCRIPTION:2008 Annual Meeting by the American Academy of Neurology\n\nTi
 tle: Canalith Repositioning for Benign Paroxysmal Positional Vertigo\n\nA
 ccess URL: https://www.aan.com/msa/Public/Events/GetEventURL/1154\n\nLear
 n More About This Event: https://www.aan.com/msa/Public/Events/Details/11
 54
DTEND:20080413T083000
DTSTAMP:20260424T054105Z
DTSTART:20080413T064500
LOCATION:https://www.aan.com/msa/Public/Events/GetEventURL/1154
SEQUENCE:0
SUMMARY:AAN: Canalith Repositioning for Benign Paroxysmal Positional Verti
 go
UID:6efe44b6-0acc-44d0-b9b1-c9b5ebfaddd3
END:VEVENT
END:VCALENDAR
