BEGIN:VCALENDAR
PRODID:-//github.com/rianjs/ical.net//NONSGML ical.net 4.0//EN
VERSION:2.0
BEGIN:VEVENT
DESCRIPTION:2008 Annual Meeting by the American Academy of Neurology\n\nTi
 tle: Creativity and Neurologic Disease\n\nAccess URL: https://www.aan.com
 /msa/Public/Events/GetEventURL/1156\n\nLearn More About This Event: https
 ://www.aan.com/msa/Public/Events/Details/1156
DTEND:20080413T083000
DTSTAMP:20260424T054212Z
DTSTART:20080413T064500
LOCATION:https://www.aan.com/msa/Public/Events/GetEventURL/1156
SEQUENCE:0
SUMMARY:AAN: Creativity and Neurologic Disease
UID:7a83f1f7-6911-44d8-b2a8-eb4b1ec2c266
END:VEVENT
END:VCALENDAR
