BEGIN:VCALENDAR
PRODID:-//github.com/rianjs/ical.net//NONSGML ical.net 4.0//EN
VERSION:2.0
BEGIN:VEVENT
DESCRIPTION:2008 Annual Meeting by the American Academy of Neurology\n\nTi
 tle: Critical Care Epilepsy/EEG\n\nAccess URL: https://www.aan.com/msa/Pu
 blic/Events/GetEventURL/1157\n\nLearn More About This Event: https://www.
 aan.com/msa/Public/Events/Details/1157
DTEND:20080413T083000
DTSTAMP:20260424T054100Z
DTSTART:20080413T064500
LOCATION:https://www.aan.com/msa/Public/Events/GetEventURL/1157
SEQUENCE:0
SUMMARY:AAN: Critical Care Epilepsy/EEG
UID:c6de0382-830a-4480-b167-ccb9caf2c6a7
END:VEVENT
END:VCALENDAR
