BEGIN:VCALENDAR
PRODID:-//github.com/rianjs/ical.net//NONSGML ical.net 4.0//EN
VERSION:2.0
BEGIN:VEVENT
DESCRIPTION:2008 Annual Meeting by the American Academy of Neurology\n\nTi
 tle: How to Successfully Write a Career Development Grant\n\nAccess URL: 
 https://www.aan.com/msa/Public/Events/GetEventURL/1158\n\nLearn More Abou
 t This Event: https://www.aan.com/msa/Public/Events/Details/1158
DTEND:20080413T083000
DTSTAMP:20260424T054105Z
DTSTART:20080413T064500
LOCATION:https://www.aan.com/msa/Public/Events/GetEventURL/1158
SEQUENCE:0
SUMMARY:AAN: How to Successfully Write a Career Development Grant
UID:b7525188-85e2-4db5-b0dd-677ed968ec51
END:VEVENT
END:VCALENDAR
