BEGIN:VCALENDAR
PRODID:-//github.com/rianjs/ical.net//NONSGML ical.net 4.0//EN
VERSION:2.0
BEGIN:VEVENT
DESCRIPTION:2008 Annual Meeting by the American Academy of Neurology\n\nTi
 tle: A Clinician's Guide to Myoclonus\n\nAccess URL: https://www.aan.com/
 msa/Public/Events/GetEventURL/1159\n\nLearn More About This Event: https:
 //www.aan.com/msa/Public/Events/Details/1159
DTEND:20080413T083000
DTSTAMP:20260424T054105Z
DTSTART:20080413T064500
LOCATION:https://www.aan.com/msa/Public/Events/GetEventURL/1159
SEQUENCE:0
SUMMARY:AAN: A Clinician's Guide to Myoclonus
UID:122edce1-acf5-4864-8da4-a809e466d990
END:VEVENT
END:VCALENDAR
