BEGIN:VCALENDAR
PRODID:-//github.com/rianjs/ical.net//NONSGML ical.net 4.0//EN
VERSION:2.0
BEGIN:VEVENT
DESCRIPTION:2008 Annual Meeting by the American Academy of Neurology\n\nTi
 tle: Neurology of Sleep\n\nAccess URL: https://www.aan.com/msa/Public/Eve
 nts/GetEventURL/1162\n\nLearn More About This Event: https://www.aan.com/
 msa/Public/Events/Details/1162
DTEND:20080413T124500
DTSTAMP:20260424T053959Z
DTSTART:20080413T090000
LOCATION:https://www.aan.com/msa/Public/Events/GetEventURL/1162
SEQUENCE:0
SUMMARY:AAN: Neurology of Sleep
UID:52d38ee5-ef19-4847-9397-37c1b1205210
END:VEVENT
END:VCALENDAR
