BEGIN:VCALENDAR
PRODID:-//github.com/rianjs/ical.net//NONSGML ical.net 4.0//EN
VERSION:2.0
BEGIN:VEVENT
DESCRIPTION:2008 Annual Meeting by the American Academy of Neurology\n\nTi
 tle: Making Sure Your Electronic Health Record System Is a Success\n\nAcc
 ess URL: https://www.aan.com/msa/Public/Events/GetEventURL/1164\n\nLearn 
 More About This Event: https://www.aan.com/msa/Public/Events/Details/1164
DTEND:20080413T124500
DTSTAMP:20260424T053952Z
DTSTART:20080413T090000
LOCATION:https://www.aan.com/msa/Public/Events/GetEventURL/1164
SEQUENCE:0
SUMMARY:AAN: Making Sure Your Electronic Health Record System Is a Success
UID:a73d5ca9-103d-48c2-a270-baa6b75b8900
END:VEVENT
END:VCALENDAR
