BEGIN:VCALENDAR
PRODID:-//github.com/rianjs/ical.net//NONSGML ical.net 4.0//EN
VERSION:2.0
BEGIN:VEVENT
DESCRIPTION:2008 Annual Meeting by the American Academy of Neurology\n\nTi
 tle: Cerebrovascular Disease\n\nAccess URL: https://www.aan.com/msa/Publi
 c/Events/GetEventURL/1166\n\nLearn More About This Event: https://www.aan
 .com/msa/Public/Events/Details/1166
DTEND:20080413T170000
DTSTAMP:20260424T054037Z
DTSTART:20080413T090000
LOCATION:https://www.aan.com/msa/Public/Events/GetEventURL/1166
SEQUENCE:0
SUMMARY:AAN: Cerebrovascular Disease
UID:04b88ca0-be0d-4696-90e1-e9338417c872
END:VEVENT
END:VCALENDAR
