BEGIN:VCALENDAR
PRODID:-//github.com/rianjs/ical.net//NONSGML ical.net 4.0//EN
VERSION:2.0
BEGIN:VEVENT
DESCRIPTION:2008 Annual Meeting by the American Academy of Neurology\n\nTi
 tle: EMG Skills Workshop: Basic\n\nAccess URL: https://www.aan.com/msa/Pu
 blic/Events/GetEventURL/1172\n\nLearn More About This Event: https://www.
 aan.com/msa/Public/Events/Details/1172
DTEND:20080413T180000
DTSTAMP:20260424T054036Z
DTSTART:20080413T090000
LOCATION:https://www.aan.com/msa/Public/Events/GetEventURL/1172
SEQUENCE:0
SUMMARY:AAN: EMG Skills Workshop: Basic
UID:3c3530e0-7499-4ef7-9dd0-c4a7b21595ea
END:VEVENT
END:VCALENDAR
