BEGIN:VCALENDAR
PRODID:-//github.com/rianjs/ical.net//NONSGML ical.net 4.0//EN
VERSION:2.0
BEGIN:VEVENT
DESCRIPTION:2008 Annual Meeting by the American Academy of Neurology\n\nTi
 tle: Coding Lunch: Cerebrovascular Disease\n\nAccess URL: https://www.aan
 .com/msa/Public/Events/GetEventURL/1174\n\nLearn More About This Event: h
 ttps://www.aan.com/msa/Public/Events/Details/1174
DTEND:20080413T130000
DTSTAMP:20260424T054002Z
DTSTART:20080413T120000
LOCATION:https://www.aan.com/msa/Public/Events/GetEventURL/1174
SEQUENCE:0
SUMMARY:AAN: Coding Lunch: Cerebrovascular Disease
UID:ce136530-8670-43dc-9e06-740f21c97df9
END:VEVENT
END:VCALENDAR
