BEGIN:VCALENDAR
PRODID:-//github.com/rianjs/ical.net//NONSGML ical.net 4.0//EN
VERSION:2.0
BEGIN:VEVENT
DESCRIPTION:2008 Annual Meeting by the American Academy of Neurology\n\nTi
 tle: Doctor\, What Is Wrong with Me? Explaining the Neuroscience of Disea
 se to Your Patient\n\nAccess URL: https://www.aan.com/msa/Public/Events/G
 etEventURL/1178\n\nLearn More About This Event: https://www.aan.com/msa/P
 ublic/Events/Details/1178
DTEND:20080413T180000
DTSTAMP:20260424T054036Z
DTSTART:20080413T141500
LOCATION:https://www.aan.com/msa/Public/Events/GetEventURL/1178
SEQUENCE:0
SUMMARY:AAN: Doctor\, What Is Wrong with Me? Explaining the Neuroscience o
 f Disease to Your Patient
UID:1f882f3e-1b9a-4984-8301-6cc5c7cbd005
END:VEVENT
END:VCALENDAR
