BEGIN:VCALENDAR
PRODID:-//github.com/rianjs/ical.net//NONSGML ical.net 4.0//EN
VERSION:2.0
BEGIN:VEVENT
DESCRIPTION:2008 Annual Meeting by the American Academy of Neurology\n\nTi
 tle: Top 10 Pitfalls in the Diagnosis of Parkinson's Disease\n\nAccess UR
 L: https://www.aan.com/msa/Public/Events/GetEventURL/1187\n\nLearn More A
 bout This Event: https://www.aan.com/msa/Public/Events/Details/1187
DTEND:20080413T210000
DTSTAMP:20260424T054033Z
DTSTART:20080413T180000
LOCATION:https://www.aan.com/msa/Public/Events/GetEventURL/1187
SEQUENCE:0
SUMMARY:AAN: Top 10 Pitfalls in the Diagnosis of Parkinson's Disease
UID:db9cdcbc-31be-44ff-b934-7ce64c426a1c
END:VEVENT
END:VCALENDAR
