BEGIN:VCALENDAR
PRODID:-//github.com/rianjs/ical.net//NONSGML ical.net 4.0//EN
VERSION:2.0
BEGIN:VEVENT
DESCRIPTION:2008 Annual Meeting by the American Academy of Neurology\n\nTi
 tle: Special Considerations in Women's Epilepsy\n\nAccess URL: https://ww
 w.aan.com/msa/Public/Events/GetEventURL/1189\n\nLearn More About This Eve
 nt: https://www.aan.com/msa/Public/Events/Details/1189
DTEND:20080414T083000
DTSTAMP:20260424T054034Z
DTSTART:20080414T064500
LOCATION:https://www.aan.com/msa/Public/Events/GetEventURL/1189
SEQUENCE:0
SUMMARY:AAN: Special Considerations in Women's Epilepsy
UID:1c078b6e-2417-4dec-823e-aae2a564874e
END:VEVENT
END:VCALENDAR
