BEGIN:VCALENDAR
PRODID:-//github.com/rianjs/ical.net//NONSGML ical.net 4.0//EN
VERSION:2.0
BEGIN:VEVENT
DESCRIPTION:2008 Annual Meeting by the American Academy of Neurology\n\nTi
 tle: Important Drug Interactions for Neurologists and Psychiatrists\n\nAc
 cess URL: https://www.aan.com/msa/Public/Events/GetEventURL/1191\n\nLearn
  More About This Event: https://www.aan.com/msa/Public/Events/Details/119
 1
DTEND:20080414T083000
DTSTAMP:20260424T054207Z
DTSTART:20080414T064500
LOCATION:https://www.aan.com/msa/Public/Events/GetEventURL/1191
SEQUENCE:0
SUMMARY:AAN: Important Drug Interactions for Neurologists and Psychiatrists
UID:099bf4d6-2d29-4412-9429-1cc75c81db4b
END:VEVENT
END:VCALENDAR
