BEGIN:VCALENDAR
PRODID:-//github.com/rianjs/ical.net//NONSGML ical.net 4.0//EN
VERSION:2.0
BEGIN:VEVENT
DESCRIPTION:2008 Annual Meeting by the American Academy of Neurology\n\nTi
 tle: Stroke in Young Adults\n\nAccess URL: https://www.aan.com/msa/Public
 /Events/GetEventURL/1199\n\nLearn More About This Event: https://www.aan.
 com/msa/Public/Events/Details/1199
DTEND:20080414T124500
DTSTAMP:20260424T054135Z
DTSTART:20080414T090000
LOCATION:https://www.aan.com/msa/Public/Events/GetEventURL/1199
SEQUENCE:0
SUMMARY:AAN: Stroke in Young Adults
UID:258571e0-1c8e-4267-bb48-6d4b9ddb4d70
END:VEVENT
END:VCALENDAR
