BEGIN:VCALENDAR
PRODID:-//github.com/rianjs/ical.net//NONSGML ical.net 4.0//EN
VERSION:2.0
BEGIN:VEVENT
DESCRIPTION:2008 Annual Meeting by the American Academy of Neurology\n\nTi
 tle: Emergency Neurology\n\nAccess URL: https://www.aan.com/msa/Public/Ev
 ents/GetEventURL/1200\n\nLearn More About This Event: https://www.aan.com
 /msa/Public/Events/Details/1200
DTEND:20080414T124500
DTSTAMP:20260424T053952Z
DTSTART:20080414T090000
LOCATION:https://www.aan.com/msa/Public/Events/GetEventURL/1200
SEQUENCE:0
SUMMARY:AAN: Emergency Neurology
UID:816d8fa6-d50c-47c0-90be-00f8bf1e4afb
END:VEVENT
END:VCALENDAR
