BEGIN:VCALENDAR
PRODID:-//github.com/rianjs/ical.net//NONSGML ical.net 4.0//EN
VERSION:2.0
BEGIN:VEVENT
DESCRIPTION:2008 Annual Meeting by the American Academy of Neurology\n\nTi
 tle: Primer of Cognitive Neurology\n\nAccess URL: https://www.aan.com/msa
 /Public/Events/GetEventURL/1211\n\nLearn More About This Event: https://w
 ww.aan.com/msa/Public/Events/Details/1211
DTEND:20080414T180000
DTSTAMP:20260424T054034Z
DTSTART:20080414T141500
LOCATION:https://www.aan.com/msa/Public/Events/GetEventURL/1211
SEQUENCE:0
SUMMARY:AAN: Primer of Cognitive Neurology
UID:c7fb0093-e731-421a-979a-adbba5eaf029
END:VEVENT
END:VCALENDAR
