BEGIN:VCALENDAR
PRODID:-//github.com/rianjs/ical.net//NONSGML ical.net 4.0//EN
VERSION:2.0
BEGIN:VEVENT
DESCRIPTION:2008 Annual Meeting by the American Academy of Neurology\n\nTi
 tle: Traumatic Spinal Cord Injury\n\nAccess URL: https://www.aan.com/msa/
 Public/Events/GetEventURL/1212\n\nLearn More About This Event: https://ww
 w.aan.com/msa/Public/Events/Details/1212
DTEND:20080414T180000
DTSTAMP:20260424T054136Z
DTSTART:20080414T141500
LOCATION:https://www.aan.com/msa/Public/Events/GetEventURL/1212
SEQUENCE:0
SUMMARY:AAN: Traumatic Spinal Cord Injury
UID:adaf65e4-2ef2-4838-8039-33ff237f2c77
END:VEVENT
END:VCALENDAR
