BEGIN:VCALENDAR
PRODID:-//github.com/rianjs/ical.net//NONSGML ical.net 4.0//EN
VERSION:2.0
BEGIN:VEVENT
DESCRIPTION:2008 Annual Meeting by the American Academy of Neurology\n\nTi
 tle: Non-Alzheimer's Dementia\n\nAccess URL: https://www.aan.com/msa/Publ
 ic/Events/GetEventURL/1214\n\nLearn More About This Event: https://www.aa
 n.com/msa/Public/Events/Details/1214
DTEND:20080414T180000
DTSTAMP:20260424T054102Z
DTSTART:20080414T141500
LOCATION:https://www.aan.com/msa/Public/Events/GetEventURL/1214
SEQUENCE:0
SUMMARY:AAN: Non-Alzheimer's Dementia
UID:e16c1ef5-ae12-4d44-8e4d-230b7b4ae2e2
END:VEVENT
END:VCALENDAR
