BEGIN:VCALENDAR
PRODID:-//github.com/rianjs/ical.net//NONSGML ical.net 4.0//EN
VERSION:2.0
BEGIN:VEVENT
DESCRIPTION:2008 Annual Meeting by the American Academy of Neurology\n\nTi
 tle: Neuromuscular Junction Disorders\n\nAccess URL: https://www.aan.com/
 msa/Public/Events/GetEventURL/1215\n\nLearn More About This Event: https:
 //www.aan.com/msa/Public/Events/Details/1215
DTEND:20080414T180000
DTSTAMP:20260424T054211Z
DTSTART:20080414T141500
LOCATION:https://www.aan.com/msa/Public/Events/GetEventURL/1215
SEQUENCE:0
SUMMARY:AAN: Neuromuscular Junction Disorders
UID:85b1c8f9-1e09-46a0-a2e4-a3a4ce6ef95e
END:VEVENT
END:VCALENDAR
